BEGIN:VCALENDAR
VERSION:2.0
PRODID:icalendar-ruby
CALSCALE:GREGORIAN
METHOD:PUBLISH
BEGIN:VEVENT
DTSTAMP:20260420T111629Z
UID:11-737867@cccridgevillecorners.com
DTSTART:20260423T210000Z
DTEND:20260423T213000Z
CLASS:PUBLIC
CREATED:20260420T035646
DESCRIPTION:
LAST-MODIFIED:20260420T035646
LOCATION:Sis Room (in main hallway)
SUMMARY:Thursday Bible Study
URL;VALUE=URI:https://www.cccridgevillecorners.com/events/thursday-bible-st
 udy/2026-04-23
END:VEVENT
END:VCALENDAR
