BEGIN:VCALENDAR
VERSION:2.0
PRODID:icalendar-ruby
CALSCALE:GREGORIAN
METHOD:PUBLISH
BEGIN:VEVENT
DTSTAMP:20260420T125029Z
UID:5-737650@cccridgevillecorners.com
DTSTART:20260502T013000Z
DTEND:20260502T033000Z
CLASS:PUBLIC
CREATED:20260420T035646
DESCRIPTION:
LAST-MODIFIED:20260420T035646
LOCATION:Sanctuary 6:30
SUMMARY:Prayer
URL;VALUE=URI:https://www.cccridgevillecorners.com/events/prayer/2026-05-01
END:VEVENT
END:VCALENDAR
