BEGIN:VCALENDAR
VERSION:2.0
PRODID:icalendar-ruby
CALSCALE:GREGORIAN
METHOD:PUBLISH
BEGIN:VEVENT
DTSTAMP:20260420T094022Z
UID:5-737163@cccridgevillecorners.com
DTSTART:20260418T013000Z
DTEND:20260418T033000Z
CLASS:PUBLIC
CREATED:20260419T224649
DESCRIPTION:
LAST-MODIFIED:20260419T224649
LOCATION:Sanctuary 6:30
SUMMARY:Prayer
URL;VALUE=URI:https://www.cccridgevillecorners.com/events/prayer/2026-04-17
END:VEVENT
END:VCALENDAR
